BEGIN:VCALENDAR
VERSION:2.0
PRODID:-//SABIEX: Programa integral para mayores de 55 años en la UMH para la promoción del envejecimiento activo y saludable. - ECPv5.11.0//NONSGML v1.0//EN
CALSCALE:GREGORIAN
METHOD:PUBLISH
X-WR-CALNAME:SABIEX: Programa integral para mayores de 55 años en la UMH para la promoción del envejecimiento activo y saludable.
X-ORIGINAL-URL:https://sabiex.umh.es
X-WR-CALDESC:Eventos para SABIEX: Programa integral para mayores de 55 años en la UMH para la promoción del envejecimiento activo y saludable.
BEGIN:VTIMEZONE
TZID:Europe/Madrid
BEGIN:DAYLIGHT
TZOFFSETFROM:+0100
TZOFFSETTO:+0200
TZNAME:CEST
DTSTART:20220327T010000
END:DAYLIGHT
BEGIN:STANDARD
TZOFFSETFROM:+0200
TZOFFSETTO:+0100
TZNAME:CET
DTSTART:20221030T010000
END:STANDARD
END:VTIMEZONE
BEGIN:VEVENT
DTSTART;TZID=Europe/Madrid:20220526T100000
DTEND;TZID=Europe/Madrid:20220526T120000
DTSTAMP:20260420T010715
CREATED:20220523T144345Z
LAST-MODIFIED:20220523T144458Z
UID:9354-1653559200-1653566400@sabiex.umh.es
SUMMARY:CAFÉ CON SABIEX PRESENCIAL
DESCRIPTION:«USO DE LAS TECNOLOGÍAS EN LA INFANCIA» \nImpartido por Maria Del Mar Navarro Alarcón\, Licenciada en Psicología por la Universidad Miguel Hernández de Elche \nDía y lugar de realización: Este jueves\, día 26 de mayo\, a las 10:00H en el Parque Deportivo\, Cafetería Parres (Enfrente de la puerta principal del Parque Municipal) \nPara más información y confirmación de asistencia escribir a sabiex@umh.es
URL:https://sabiex.umh.es/event/cafe-con-sabiex-presencial-2/
CATEGORIES:café con sabiex
END:VEVENT
END:VCALENDAR