BEGIN:VCALENDAR
VERSION:2.0
PRODID:-//SABIEX: Programa integral para mayores de 55 años en la UMH para la promoción del envejecimiento activo y saludable. - ECPv5.11.0//NONSGML v1.0//EN
CALSCALE:GREGORIAN
METHOD:PUBLISH
X-WR-CALNAME:SABIEX: Programa integral para mayores de 55 años en la UMH para la promoción del envejecimiento activo y saludable.
X-ORIGINAL-URL:https://sabiex.umh.es
X-WR-CALDESC:Eventos para SABIEX: Programa integral para mayores de 55 años en la UMH para la promoción del envejecimiento activo y saludable.
BEGIN:VTIMEZONE
TZID:Europe/Madrid
BEGIN:DAYLIGHT
TZOFFSETFROM:+0100
TZOFFSETTO:+0200
TZNAME:CEST
DTSTART:20220327T010000
END:DAYLIGHT
BEGIN:STANDARD
TZOFFSETFROM:+0200
TZOFFSETTO:+0100
TZNAME:CET
DTSTART:20221030T010000
END:STANDARD
END:VTIMEZONE
BEGIN:VEVENT
DTSTART;TZID=Europe/Madrid:20220606T113000
DTEND;TZID=Europe/Madrid:20220606T123000
DTSTAMP:20260422T131539
CREATED:20220325T110017Z
LAST-MODIFIED:20220325T110339Z
UID:9037-1654515000-1654518600@sabiex.umh.es
SUMMARY:PROGRAMA DE RADIO «ABRIENDO CAMINOS»
DESCRIPTION:Presentado por José Jurado y Concha Vacas \n¿Te lo vas a perder? Sintonízanos en Radio UMH 99.5 MHz FM\, Elche
URL:https://sabiex.umh.es/event/programa-de-radio-abriendo-caminos-4/
CATEGORIES:Programa de radio
END:VEVENT
END:VCALENDAR